BEGIN:VCALENDAR
VERSION:2.0
PRODID:Events Booking
BEGIN:VEVENT
UID:69ea06b72ff5c
SUMMARY:Jazz & More for Kids mit dem Hoppel Hoppel Rhythm Club
DESCRIPTION:Mal swingen die Enten\, mal rocken die Pferde. Zum Rhythmus der
  Eisenbahn grooven wir uns ein. Zur Abkühlung wird im Sechs-Achtel-Takt g
 erudert. Ab und zu hüpft auch ein Butzemann vergnügt über die Bühne\, 
 oder man hört von weit entfernt eine Mühle klappern. Und je nach Jahresz
 eit tanzt entweder der Weihnachtsmann Rumba oder der Osterhase Twist. Auf 
 Rot\, Gelb\, Grün und Blau wird entspannt geklatscht\, geschnipst oder ge
 trommelt\, bevor es dann zum Improvisationswettstreit zwischen Sax\, Klavi
 er\, Bass und Drums auf der Bühne und dem Publikum kommt. Und immer schö
 n mitsingen!Die Mitmach-Konzerte für die ganze Familie mit dem Hoppel Hop
 pel Rhythm Club gibt es seit 2005. Hinter dem Namen verbergen sich mit Pet
 er Lehel am Saxophon\, Peter Schindler am Klavier\, Rosanna Zacharias am S
 chlagzeug und Markus Faller am Bass allesamt etablierte Musiker und Kompon
 isten\, die sich das Ziel gesetzt haben Kindern den Spaß an der Musik nah
 e zu bringen. Das Quartett hat bei Auftritten in Schulen\, Theatern\, Jazz
 clubs und auf Festivals Jazzfreunde und Musikliebhaber aller Altersstufen 
 begeistert. Neben Spielspaß und Konzertvergnügen erfahren die kleinen un
 d großen Zuhörer so ganz nebenbei etwas über die Entwicklung des Jazz\,
  über die Instrumente und Improvisation. Die erste CD der Band wurde 2006
  mit dem Preis der deutschen Schallplattenkritik ausgezeichnet. Das Motto 
 im Hoppel Hoppel Rhythm Club heißt: Singen\, schnipsen\, klatschen\, rass
 eln\, hören\, bewegen und tanzen! One\, two\, three\, four\, let´s go!
LOCATION:Forststraße\, Freudenstadt\, 72250 Baden-Württemberg\, Deutschla
 nd
DTSTART:20260927T130000Z
DTSTAMP:20260420T071539Z
ORGANIZER;CN=F23 Freudenstadt - Jugend\, Kultur\, Kids:MAILTO:siegfried.koe
 gel@f23-fds.de
GEO:48.466765;8.410614
X-APPLE-STRUCTURED-LOCATION;VALUE=URI;X-ADDRESS=Forststraße\, Freudenstadt
 \, 72250 Baden-Württemberg\, Deutschland;X-APPLE-RADIUS=72;X-TITLE=F23 Fr
 eudenstadt - Jugend\, Kultur\, Kids:48.466765;8.410614
END:VEVENT
END:VCALENDAR