BEGIN:VCALENDAR
VERSION:2.0
PRODID:Events Booking
BEGIN:VEVENT
UID:69e60e7ea1ba8
SUMMARY:Konzert mit Zeitlos - Im Rahmen des Jugendaustausch mit der bulgari
 schen Stadt Sandanski
DESCRIPTION:Jugendliche aus Sandanski kommen nach Freudenstadt Freudenstadt
  freut sich auf den ersten Jugendaustausch mit der befreundeten Stadt Sand
 anski in Bulgarien. Am Samstag\, 26. April\, gibt es im Jugendzentrum F23 
 für die Öffentlichkeit die Möglichkeit\, mit den Besuchern in Kontakt z
 u kommen.An diesem Abend findet gemeinsam mit den Gästen ein Konzertabend
  statt. Ab 20 Uhr spielt die Band „Zeitlos“\, die Lieder aus den 1990e
 r- und 2000er-Jahren interpretiert. Die Verwaltung hofft auf viele Besuche
 r. Die Stadt Freudenstadt ist seit 2009 mit der bulgarischen Kurstadt Sand
 anski freundschaftlich verbunden. Trotz der rund 1.700 Kilometer Entfernun
 g wird diese Partnerschaft aktiv gepflegt. Ein wichtiger Schritt war im Ma
 i 2023: Das Jugendzentrum Sandanski und das städtische Jugendzentrum F23 
 in Freudenstadt haben ihre Zusammenarbeit intensiviert. Im Rahmen eines EU
 -Förderprojekts wurde in Sandanski ein neues Jugendzentrum aufgebaut. Sie
 gfried Kögel\, Leiter des F23\, brachte dabei seine Erfahrungen ein. Unte
 rstützt wurde er von Fabienne Janz\, zuständig für Städtepartnerschaft
 en im Rathaus Freudenstadt.Nun findet der erste Jugendaustausch statt: Vom
  24. bis 27. April besuchen 14 Jugendliche aus Sandanski Freudenstadt\, de
 r Gegenbesuch folgt im Mai. Im Schwarzwald erwartet die jungen Bulgaren ei
 n abwechslungsreiches Programm mit Workshops und Ausflügen in der Region.
  Dank der Unterstützung örtlicher Vereine stehen unter anderem Besuche i
 m Dorfmuseum Dietersweiler und im Backhaus Grüntal auf dem Programm. Gepl
 ant sind außerdem eine Wanderung am Kniebis\, ein Besuch im Panorama-Bad 
 sowie ein Empfang im Rathaus. Bei gutem Wetter begleitet Axel Reich\, Euro
 pagemeinderat\, die Gruppe zum Flugplatz in Musbach.
LOCATION:Forststraße\, Freudenstadt\, 72250 Baden-Württemberg\, Deutschla
 nd
DTSTART:20260425T180000Z
DTEND:20260425T200000Z
DTSTAMP:20260420T062142Z
ORGANIZER;CN=F23 Freudenstadt - Jugend\, Kultur\, Kids:MAILTO:siegfried.koe
 gel@f23-fds.de
GEO:48.466765;8.410614
X-APPLE-STRUCTURED-LOCATION;VALUE=URI;X-ADDRESS=Forststraße\, Freudenstadt
 \, 72250 Baden-Württemberg\, Deutschland;X-APPLE-RADIUS=72;X-TITLE=F23 Fr
 eudenstadt - Jugend\, Kultur\, Kids:48.466765;8.410614
END:VEVENT
END:VCALENDAR